BEGIN:VCALENDAR
VERSION:2.0
PRODID:icalendar-ruby
CALSCALE:GREGORIAN
METHOD:PUBLISH
BEGIN:VEVENT
DTSTAMP:20260422T014510Z
UID:72-2777288@glenpres.org
DTSTART:20261028T210000Z
DTEND:20261028T220000Z
CLASS:PUBLIC
CREATED:20260421T170436
DESCRIPTION:Come stretch your mind\, body\, and soul in the midst of the we
 ek with our "gentle" yoga class. We meet every Wednesday at 2pm at GPC in 
 the Family Room\, and the class is free! So bring your friends\, yoga mats
 \, and any other equipment to personalize your yoga practice. If you have 
 any questions\, please contact Lynn Carter at pixie2chow@yahoo.com.
LAST-MODIFIED:20260421T170436
LOCATION:GPC Family Room
SUMMARY:Gentle Yoga
URL;VALUE=URI:https://glenpres.org/events/gentle-yoga/2026-10-28
ATTACH;FILENAME=tn-yoga-studios-1.jpeg;FMTTYPE=image/jpeg:https://dq5pwpg1q
 8ru0.cloudfront.net/2023/03/13/00/14/55/ad37c4e8-0c74-44b7-bc02-26273ba924
 3a/tn-yoga-studios-1.jpeg
END:VEVENT
END:VCALENDAR
